BEGIN:VCALENDAR
VERSION:2.0
PRODID:-//Mizz Mozaic - ECPv6.15.11//NONSGML v1.0//EN
CALSCALE:GREGORIAN
METHOD:PUBLISH
X-WR-CALNAME:Mizz Mozaic
X-ORIGINAL-URL:https://www.mizzmozaic.com
X-WR-CALDESC:Events for Mizz Mozaic
REFRESH-INTERVAL;VALUE=DURATION:PT1H
X-Robots-Tag:noindex
X-PUBLISHED-TTL:PT1H
BEGIN:VTIMEZONE
TZID:America/New_York
BEGIN:DAYLIGHT
TZOFFSETFROM:-0500
TZOFFSETTO:-0400
TZNAME:EDT
DTSTART:20240310T070000
END:DAYLIGHT
BEGIN:STANDARD
TZOFFSETFROM:-0400
TZOFFSETTO:-0500
TZNAME:EST
DTSTART:20241103T060000
END:STANDARD
BEGIN:DAYLIGHT
TZOFFSETFROM:-0500
TZOFFSETTO:-0400
TZNAME:EDT
DTSTART:20250309T070000
END:DAYLIGHT
BEGIN:STANDARD
TZOFFSETFROM:-0400
TZOFFSETTO:-0500
TZNAME:EST
DTSTART:20251102T060000
END:STANDARD
BEGIN:DAYLIGHT
TZOFFSETFROM:-0500
TZOFFSETTO:-0400
TZNAME:EDT
DTSTART:20260308T070000
END:DAYLIGHT
BEGIN:STANDARD
TZOFFSETFROM:-0400
TZOFFSETTO:-0500
TZNAME:EST
DTSTART:20261101T060000
END:STANDARD
END:VTIMEZONE
BEGIN:VEVENT
DTSTART;TZID=America/New_York:20251108T110000
DTEND;TZID=America/New_York:20251108T130000
DTSTAMP:20260419T102539
CREATED:20250923T172540Z
LAST-MODIFIED:20250923T172700Z
UID:5237-1762599600-1762606800@www.mizzmozaic.com
SUMMARY:Mosaic Mirror Magic: A Beginner’s Workshop
DESCRIPTION:Get ready to sparkle and shine as you dive into the vibrant world of mosaic art- no experience needed\, just bring your imagination! In this fun\, hands-on workshop at the amazing Shop Made in DC in Georgetown\, Mizz Mozaic will guide you piece by piece through creating your very own 8″ round mosaic mirror. \nYou’ll design\, arrange and glue colorful tiles ~ think iridescent\, glittery\, shiny and bold ~ and learn the basics of grouting to bring it all together. Whether you’re making a one-of-a-kind keepsake or just craving a creative escape\, this class promises a bright\, joyful experience. \nAll materials included ~ leave with a magical mosaic mirror that’s truly your own!
URL:https://www.mizzmozaic.com/event/mosaic-mirror-magic-a-beginners-workshop-4/
LOCATION:Shop Made in DC\, 1304 Wisconsin Avenue\, NW\, Washington\, DC\, 20007
ATTACH;FMTTYPE=image/jpeg:https://www.mizzmozaic.com/wp-content/uploads/2025/09/https___cdn.evbuc_.com_images_1074242573_2728781049541_1_original.jpg
END:VEVENT
BEGIN:VEVENT
DTSTART;TZID=America/New_York:20251115T130000
DTEND;TZID=America/New_York:20251115T150000
DTSTAMP:20260419T102539
CREATED:20251105T114810Z
LAST-MODIFIED:20251105T114810Z
UID:5365-1763211600-1763218800@www.mizzmozaic.com
SUMMARY:Tile Your Style: Mosaic Wall Art Workshop
DESCRIPTION:Let Your Creativity Shine! \nCalling all beginners! Come explore your creative side in a lively\, hands-on mosaic workshop where the only rule is to have fun! \nYou’ll design\, arrange\, glue\, and grout your very own 8″ x 6″ wall art hanging\, all in a supportive and playful environment. \nMizz Mozaic will guide you step by step\, sharing tips\, techniques and creative insights while you play with a rainbow of colorful tiles and watch your design come to life. No experience? No problem! This class is all about exploring\, experimenting\, and discovering the joy of mosaics. \nAll materials are included ~ just bring your imagination and leave with a one-of-a-kind\, ready-to-hang mosaic masterpiece that’s 100% YOU! \nIt’s the perfect chance to try something new\, make a statement piece for your home\, or just enjoy a few hours of colorful\, stress-free fun.
URL:https://www.mizzmozaic.com/event/tile-your-style-mosaic-wall-art-workshop/
LOCATION:Arts Herndon\, 750 Center St.\, Herndon\, VA\, 20170\, United States
ATTACH;FMTTYPE=image/png:https://www.mizzmozaic.com/wp-content/uploads/2025/10/3.png
END:VEVENT
BEGIN:VEVENT
DTSTART;TZID=America/New_York:20251116T150000
DTEND;TZID=America/New_York:20251116T170000
DTSTAMP:20260419T102539
CREATED:20250923T173450Z
LAST-MODIFIED:20250923T173450Z
UID:5297-1763305200-1763312400@www.mizzmozaic.com
SUMMARY:Framed & Fabulous: Virginia State Mosaic Picture Frame Class
DESCRIPTION:Turn your favorite memories into showstoppers with a frame you create yourself! In this colorful\, hands-on workshop\, you’ll design\, arrange\, glue and grout a 4″ x 6″ mosaic picture frame using vibrant tiles and simple tools ~ no experience needed. Mizz Mozaic will walk you through the process step by step\, with plenty of room to let your creativity shine. \nWhether you want to make the perfect gift\, craft a special keepsake\, or just spend a few hours playing with color and pattern\, this class is all about fun\, creativity and good vibes. You’ll leave with a frame that’s ready to hold your favorite photo and brighten up any space!
URL:https://www.mizzmozaic.com/event/framed-fabulous-virginia-state-mosaic-picture-frame-class/
LOCATION:Shop Made in Virginia\, 1121 King Street\, Alexandria\, VA\, VA\, 22314
ATTACH;FMTTYPE=image/jpeg:https://www.mizzmozaic.com/wp-content/uploads/2025/09/IMG_1367.jpg
END:VEVENT
BEGIN:VEVENT
DTSTART;TZID=America/New_York:20251130T110000
DTEND;TZID=America/New_York:20251130T170000
DTSTAMP:20260419T102539
CREATED:20250714T190038Z
LAST-MODIFIED:20250923T152549Z
UID:5215-1764500400-1764522000@www.mizzmozaic.com
SUMMARY:Holiday Sip & Shop at Vanish Farmwoods Brewery
DESCRIPTION:Get into the holiday spirit at Vanish! Sip on craft brews\, shop unique gifts from local makers and soak in the cozy\, festive vibes. It’s the perfect way to check off your gift list while enjoying a merry afternoon with friends. \n 
URL:https://www.mizzmozaic.com/event/holidya-sip-shop-at-vanish-farmwoods-brewery/
LOCATION:Vanish Farmwoods Brewery\, 42245 Black Hops Ln\, Leesburg\, VA\, 20176\, United States
ATTACH;FMTTYPE=image/png:https://www.mizzmozaic.com/wp-content/uploads/2025/04/vanish-logo-color.png
END:VEVENT
END:VCALENDAR