BEGIN:VCALENDAR
VERSION:2.0
PRODID:-//Mizz Mozaic - ECPv6.15.11//NONSGML v1.0//EN
CALSCALE:GREGORIAN
METHOD:PUBLISH
X-WR-CALNAME:Mizz Mozaic
X-ORIGINAL-URL:https://www.mizzmozaic.com
X-WR-CALDESC:Events for Mizz Mozaic
REFRESH-INTERVAL;VALUE=DURATION:PT1H
X-Robots-Tag:noindex
X-PUBLISHED-TTL:PT1H
BEGIN:VTIMEZONE
TZID:America/New_York
BEGIN:DAYLIGHT
TZOFFSETFROM:-0500
TZOFFSETTO:-0400
TZNAME:EDT
DTSTART:20240310T070000
END:DAYLIGHT
BEGIN:STANDARD
TZOFFSETFROM:-0400
TZOFFSETTO:-0500
TZNAME:EST
DTSTART:20241103T060000
END:STANDARD
BEGIN:DAYLIGHT
TZOFFSETFROM:-0500
TZOFFSETTO:-0400
TZNAME:EDT
DTSTART:20250309T070000
END:DAYLIGHT
BEGIN:STANDARD
TZOFFSETFROM:-0400
TZOFFSETTO:-0500
TZNAME:EST
DTSTART:20251102T060000
END:STANDARD
BEGIN:DAYLIGHT
TZOFFSETFROM:-0500
TZOFFSETTO:-0400
TZNAME:EDT
DTSTART:20260308T070000
END:DAYLIGHT
BEGIN:STANDARD
TZOFFSETFROM:-0400
TZOFFSETTO:-0500
TZNAME:EST
DTSTART:20261101T060000
END:STANDARD
END:VTIMEZONE
BEGIN:VEVENT
DTSTART;VALUE=DATE:20250806
DTEND;VALUE=DATE:20250807
DTSTAMP:20260419T144643
CREATED:20250729T175609Z
LAST-MODIFIED:20250729T175831Z
UID:5224-1754438400-1754524799@www.mizzmozaic.com
SUMMARY:Private Corporate Team Building Event
DESCRIPTION:Looking to energize your team with a creative\, hands-on experience? Mizz Mozaic brings customized\, joy-filled mosaic team-building events straight to your office! We handle everything ~ from setup to cleanup ~ so all you need to do is show up and get inspired. Each participant will create their own one-of-a-kind mosaic piece to take home\, making it a memorable and meaningful way to connect\, unwind and create together. Perfect for boosting morale\, sparking creativity and building community ~ one tile at a time. Reach out to jenlene@mizzmozaic.com for more details!
URL:https://www.mizzmozaic.com/event/private-corporate-team-building-event/
LOCATION:VA
ATTACH;FMTTYPE=image/png:https://www.mizzmozaic.com/wp-content/uploads/2025/07/1.png
END:VEVENT
BEGIN:VEVENT
DTSTART;VALUE=DATE:20250816
DTEND;VALUE=DATE:20250817
DTSTAMP:20260419T144643
CREATED:20250618T190002Z
LAST-MODIFIED:20250729T180145Z
UID:5160-1755302400-1755388799@www.mizzmozaic.com
SUMMARY:Shop Made in Virginia: Spotlight Maker Event
DESCRIPTION:Mizz Mozaic is thrilled to be a Spotlight Maker at Shop Made in Virginia! You’re invited to join in the fun\, soak up the creative vibes\, and celebrate local makers. While you’re there\, don’t forget to grab one of our Virginia-themed make-your-own mosaic kits — the perfect way to bring a little hands-on art and state pride home with you!
URL:https://www.mizzmozaic.com/event/shop-made-in-virginia-spotlight-maker-event/
LOCATION:Shop Made in Virginia\, 1121 King Street\, Alexandria\, VA\, VA\, 22314
ATTACH;FMTTYPE=image/png:https://www.mizzmozaic.com/wp-content/uploads/2025/06/Shop-Made-in-VA-2.png
END:VEVENT
BEGIN:VEVENT
DTSTART;TZID=America/New_York:20250830T150000
DTEND;TZID=America/New_York:20250830T170000
DTSTAMP:20260419T144643
CREATED:20250620T175108Z
LAST-MODIFIED:20250714T190622Z
UID:5195-1756566000-1756573200@www.mizzmozaic.com
SUMMARY:Mosaic Mirror Magic: A Beginner’s Workshop
DESCRIPTION:Stay tuned for Registration Link coming soon! \nMosaic Mirror Magic: A Beginner’s Workshop 2 hours | $55 \nGet ready to sparkle and shine as you dive into the vibrant world of mosaic art- no experience needed\, just bring your imagination! In this fun\, hands-on workshop at the amazing Shop Made in VA in Old Town Alexandria\, Mizz Mozaic will guide you piece by piece through creating your very own 6″ round mosaic mirror. \nYou’ll design\, arrange and glue colorful tiles – think iridescent\, glittery\, shiny and bold – and learn the basics of grouting to bring it all together. Whether you’re making a one-of-a-kind keepsake or just craving a creative escape\, this class promises a bright\, joyful experience. \nAll materials included — leave with a magical mosaic mirror that’s truly your own!
URL:https://www.mizzmozaic.com/event/mosaic-mirror-magic-a-beginners-workshop/
LOCATION:Shop Made in Virginia\, 1121 King Street\, Alexandria\, VA\, VA\, 22314
ATTACH;FMTTYPE=image/jpeg:https://www.mizzmozaic.com/wp-content/uploads/2025/07/Magical-Mirror-1.jpg
END:VEVENT
BEGIN:VEVENT
DTSTART;TZID=America/New_York:20250831T150000
DTEND;TZID=America/New_York:20250831T170000
DTSTAMP:20260419T144643
CREATED:20250714T184232Z
LAST-MODIFIED:20250714T190430Z
UID:5211-1756652400-1756659600@www.mizzmozaic.com
SUMMARY:Mosaic Mirror Magic: A Beginner’s Workshop
DESCRIPTION:Stay tuned for Registration Link coming soon! \nMosaic Mirror Magic: A Beginner’s Workshop 2 hours | $55 \nGet ready to sparkle and shine as you dive into the vibrant world of mosaic art- no experience needed\, just bring your imagination! In this fun\, hands-on workshop at the amazing Shop Made in DC in Georgetown\, Mizz Mozaic will guide you piece by piece through creating your very own 6″ round mosaic mirror. \nYou’ll design\, arrange and glue colorful tiles – think iridescent\, glittery\, shiny and bold – and learn the basics of grouting to bring it all together. Whether you’re making a one-of-a-kind keepsake or just craving a creative escape\, this class promises a bright\, joyful experience. \nAll materials included — leave with a magical mosaic mirror that’s truly your own!
URL:https://www.mizzmozaic.com/event/mosaic-mirror-magic-a-beginners-workshop-2/
LOCATION:Shop Made in DC\, 1304 Wisconsin Avenue\, NW\, Washington\, DC\, 20007
ATTACH;FMTTYPE=image/jpeg:https://www.mizzmozaic.com/wp-content/uploads/2025/07/Magical-Mirror-1.jpg
END:VEVENT
END:VCALENDAR