BEGIN:VCALENDAR
VERSION:2.0
PRODID:-//Mizz Mozaic - ECPv6.15.11//NONSGML v1.0//EN
CALSCALE:GREGORIAN
METHOD:PUBLISH
X-WR-CALNAME:Mizz Mozaic
X-ORIGINAL-URL:https://www.mizzmozaic.com
X-WR-CALDESC:Events for Mizz Mozaic
REFRESH-INTERVAL;VALUE=DURATION:PT1H
X-Robots-Tag:noindex
X-PUBLISHED-TTL:PT1H
BEGIN:VTIMEZONE
TZID:America/New_York
BEGIN:DAYLIGHT
TZOFFSETFROM:-0500
TZOFFSETTO:-0400
TZNAME:EDT
DTSTART:20240310T070000
END:DAYLIGHT
BEGIN:STANDARD
TZOFFSETFROM:-0400
TZOFFSETTO:-0500
TZNAME:EST
DTSTART:20241103T060000
END:STANDARD
BEGIN:DAYLIGHT
TZOFFSETFROM:-0500
TZOFFSETTO:-0400
TZNAME:EDT
DTSTART:20250309T070000
END:DAYLIGHT
BEGIN:STANDARD
TZOFFSETFROM:-0400
TZOFFSETTO:-0500
TZNAME:EST
DTSTART:20251102T060000
END:STANDARD
BEGIN:DAYLIGHT
TZOFFSETFROM:-0500
TZOFFSETTO:-0400
TZNAME:EDT
DTSTART:20260308T070000
END:DAYLIGHT
BEGIN:STANDARD
TZOFFSETFROM:-0400
TZOFFSETTO:-0500
TZNAME:EST
DTSTART:20261101T060000
END:STANDARD
END:VTIMEZONE
BEGIN:VEVENT
DTSTART;VALUE=DATE:20250601
DTEND;VALUE=DATE:20250602
DTSTAMP:20260419T173432
CREATED:20250325T173636Z
LAST-MODIFIED:20250325T180648Z
UID:5088-1748736000-1748822399@www.mizzmozaic.com
SUMMARY:RISE UP! Reston Pride
DESCRIPTION:Join Mizz Mozaic at Rise Up! Reston Pride on June 1 from 11 am-6 pm!\n\n\n\nMizz Mozaic will be hosting a community art piece along with DIY mosaic art kits\, pre-made mosaic gifts and more! \nAll events take place at Lake Anne Plaza in Reston\, Virginia. We welcome the entire community to this FREE event! \nFollow Mizz Mozaic & Reston Pride on social media for the latest details.
URL:https://www.mizzmozaic.com/event/rise-up-reston-pride/
LOCATION:Lake Anne Plaza\, 1609 Washington Plaza N\, Reston\, VA\, 20190
ATTACH;FMTTYPE=image/webp:https://www.mizzmozaic.com/wp-content/uploads/2025/03/Rise-Up-May31-June1-RP.webp
END:VEVENT
BEGIN:VEVENT
DTSTART;TZID=America/New_York:20250621T080000
DTEND;TZID=America/New_York:20250621T120000
DTSTAMP:20260419T173432
CREATED:20250618T184202Z
LAST-MODIFIED:20250618T184202Z
UID:5154-1750492800-1750507200@www.mizzmozaic.com
SUMMARY:The Warrenton Artist & Maker Market
DESCRIPTION:The Warrenton Farmers Market Presents: The Warrenton Artist & Maker Market! Starting April 26 and every Saturday through November. Featuring different vendors each week and just a three-minute walk from the Farmers market! Mizz Mozaic will lead childrens’ art activities the first weekend of the month and will also have plenty of DIY mosaic art kits for purchase! Check back each month for specific dates as they will change. Hope to see you there! \n 
URL:https://www.mizzmozaic.com/event/the-warrenton-artist-maker-market-2/
LOCATION:The 18 Court Street Building\, 18 Court Street\, Warrenton\, VA\, 20186
ATTACH;FMTTYPE=image/png:https://www.mizzmozaic.com/wp-content/uploads/2025/04/2025-WAMM-Flyers-for-vendors-for-WFM.png
END:VEVENT
BEGIN:VEVENT
DTSTART;TZID=America/New_York:20250622T110000
DTEND;TZID=America/New_York:20250622T170000
DTSTAMP:20260419T173432
CREATED:20250430T201855Z
LAST-MODIFIED:20250507T144217Z
UID:5112-1750590000-1750611600@www.mizzmozaic.com
SUMMARY:Summer Sip & Shop at Vanish Farmwoods Brewery
DESCRIPTION:Join in the summer fun at the Summer Sip & Shop at Vanish Brewery! More details coming soon. \n 
URL:https://www.mizzmozaic.com/event/summer-sip-shop-at-vanish-farmwoods-brewery/
LOCATION:Vanish Farmwoods Brewery\, 42245 Black Hops Ln\, Leesburg\, VA\, 20176\, United States
ATTACH;FMTTYPE=image/jpeg:https://www.mizzmozaic.com/wp-content/uploads/2025/04/Vanish-Sip-Shop.jpeg
END:VEVENT
END:VCALENDAR