BEGIN:VCALENDAR
VERSION:2.0
PRODID:-//Mizz Mozaic - ECPv6.15.11//NONSGML v1.0//EN
CALSCALE:GREGORIAN
METHOD:PUBLISH
X-WR-CALNAME:Mizz Mozaic
X-ORIGINAL-URL:https://www.mizzmozaic.com
X-WR-CALDESC:Events for Mizz Mozaic
REFRESH-INTERVAL;VALUE=DURATION:PT1H
X-Robots-Tag:noindex
X-PUBLISHED-TTL:PT1H
BEGIN:VTIMEZONE
TZID:America/New_York
BEGIN:DAYLIGHT
TZOFFSETFROM:-0500
TZOFFSETTO:-0400
TZNAME:EDT
DTSTART:20240310T070000
END:DAYLIGHT
BEGIN:STANDARD
TZOFFSETFROM:-0400
TZOFFSETTO:-0500
TZNAME:EST
DTSTART:20241103T060000
END:STANDARD
BEGIN:DAYLIGHT
TZOFFSETFROM:-0500
TZOFFSETTO:-0400
TZNAME:EDT
DTSTART:20250309T070000
END:DAYLIGHT
BEGIN:STANDARD
TZOFFSETFROM:-0400
TZOFFSETTO:-0500
TZNAME:EST
DTSTART:20251102T060000
END:STANDARD
BEGIN:DAYLIGHT
TZOFFSETFROM:-0500
TZOFFSETTO:-0400
TZNAME:EDT
DTSTART:20260308T070000
END:DAYLIGHT
BEGIN:STANDARD
TZOFFSETFROM:-0400
TZOFFSETTO:-0500
TZNAME:EST
DTSTART:20261101T060000
END:STANDARD
END:VTIMEZONE
BEGIN:VEVENT
DTSTART;TZID=America/New_York:20250524T080000
DTEND;TZID=America/New_York:20250524T120000
DTSTAMP:20260421T054153
CREATED:20250430T200819Z
LAST-MODIFIED:20250430T200819Z
UID:5104-1748073600-1748088000@www.mizzmozaic.com
SUMMARY:The Warrenton Artist & Maker Market
DESCRIPTION:The Warrenton Farmers Market Presents: The Warrenton Artist & Maker Market! Starting April 26 and every Saturday through November. Featuring different vendors each week and just a three-minute walk from the Farmers market! Mizz Mozaic will lead childrens’ art activities and will also have plenty of DIY mosaic art kits for purchase! Check back each month for specific dates as they will change. Hope to see you there! \n 
URL:https://www.mizzmozaic.com/event/the-warrenton-artist-maker-market/
LOCATION:The 18 Court Street Building\, 18 Court Street\, Warrenton\, VA\, 20186
ATTACH;FMTTYPE=image/png:https://www.mizzmozaic.com/wp-content/uploads/2025/04/2025-WAMM-Flyers-for-vendors-for-WFM.png
END:VEVENT
BEGIN:VEVENT
DTSTART;TZID=America/New_York:20250531T130000
DTEND;TZID=America/New_York:20250531T180000
DTSTAMP:20260421T054153
CREATED:20250430T201349Z
LAST-MODIFIED:20250430T201449Z
UID:5108-1748696400-1748714400@www.mizzmozaic.com
SUMMARY:(D)rafts & (C)rafts
DESCRIPTION:(D)rafts and (C)rafts\, back for the third year\, combines dozens of local craft breweries and artisan makers in the District’s only small-scale producers festival. On Saturday\, May 31st\, 2025 from 1-6pm\, join the DC Brewers’ Guild and the newly established DC Makers’ Guild in the DC Brau brewhouse & biergarten.\nGrab unlimited tastes from 15+ local craft breweries while exploring products from 30+ locally made artisan goods businesses such as ceramicists\, woodworkers\, printmakers\, jewelers\, and more. Stop by the craft station to express your creativity\, visit the Guild info booth to learn about their work & how to get involved\, and grab a bite from local food trucks.\nWhy is this festival different from all the rest? Your friends and neighbors are the ones manufacturing the beverages you will drink and the goods you will support. Despite the growing number of manufacturing businesses in and around DC\, many of which are affiliated with the Brewers’ and Makers’ Guilds\, no other organizations exist to support small-scale manufacturers on the individual and collective levels. The Guilds\, however\, provide its members the tools and structure for both individual growth and positive systemic change.\nBoth Guilds work to unify independent producers\, raise awareness and appreciation of the quality and diversity of their industries\, and influence public policy decisions to create a business environment that allows them to continue to grow and flourish. Funds raised from this festival will allow the work to continue. 
URL:https://www.mizzmozaic.com/event/drafts-crafts/
LOCATION:DC Brau\, 3178-B Bladensburg Rd\, NE\, Washington\, DC\, 20018
ATTACH;FMTTYPE=image/png:https://www.mizzmozaic.com/wp-content/uploads/2025/04/BlueFinalcopy3@4x.png
END:VEVENT
END:VCALENDAR