BEGIN:VCALENDAR
VERSION:2.0
PRODID:-//Mizz Mozaic - ECPv6.15.11//NONSGML v1.0//EN
CALSCALE:GREGORIAN
METHOD:PUBLISH
X-WR-CALNAME:Mizz Mozaic
X-ORIGINAL-URL:https://www.mizzmozaic.com
X-WR-CALDESC:Events for Mizz Mozaic
REFRESH-INTERVAL;VALUE=DURATION:PT1H
X-Robots-Tag:noindex
X-PUBLISHED-TTL:PT1H
BEGIN:VTIMEZONE
TZID:America/New_York
BEGIN:DAYLIGHT
TZOFFSETFROM:-0500
TZOFFSETTO:-0400
TZNAME:EDT
DTSTART:20230312T070000
END:DAYLIGHT
BEGIN:STANDARD
TZOFFSETFROM:-0400
TZOFFSETTO:-0500
TZNAME:EST
DTSTART:20231105T060000
END:STANDARD
BEGIN:DAYLIGHT
TZOFFSETFROM:-0500
TZOFFSETTO:-0400
TZNAME:EDT
DTSTART:20240310T070000
END:DAYLIGHT
BEGIN:STANDARD
TZOFFSETFROM:-0400
TZOFFSETTO:-0500
TZNAME:EST
DTSTART:20241103T060000
END:STANDARD
BEGIN:DAYLIGHT
TZOFFSETFROM:-0500
TZOFFSETTO:-0400
TZNAME:EDT
DTSTART:20250309T070000
END:DAYLIGHT
BEGIN:STANDARD
TZOFFSETFROM:-0400
TZOFFSETTO:-0500
TZNAME:EST
DTSTART:20251102T060000
END:STANDARD
BEGIN:DAYLIGHT
TZOFFSETFROM:-0500
TZOFFSETTO:-0400
TZNAME:EDT
DTSTART:20260308T070000
END:DAYLIGHT
BEGIN:STANDARD
TZOFFSETFROM:-0400
TZOFFSETTO:-0500
TZNAME:EST
DTSTART:20261101T060000
END:STANDARD
END:VTIMEZONE
BEGIN:VEVENT
DTSTART;TZID=America/New_York:20250427T150000
DTEND;TZID=America/New_York:20250427T190000
DTSTAMP:20260419T145757
CREATED:20250325T174428Z
LAST-MODIFIED:20250325T174814Z
UID:5092-1745766000-1745780400@www.mizzmozaic.com
SUMMARY:Caboose Commons Women's Market
DESCRIPTION:The Caboose Commons Women’s Market is back! Pick up something for yourself\, find a unique a mother’s day gift or just support local women-owned businesses! Mizz Mozaic will be there with DIY mosaic art kits and one-of-a-kind handmade mosaic gifts! \n 
URL:https://www.mizzmozaic.com/event/caboose-commons-womens-market/
LOCATION:Caboose Commons\, 2918 Eskridge Road\, Fairfax\, VA\, 22031
ATTACH;FMTTYPE=image/jpeg:https://www.mizzmozaic.com/wp-content/uploads/2025/03/Caboose-Commons.jpg
END:VEVENT
BEGIN:VEVENT
DTSTART;TZID=America/New_York:20250322T110000
DTEND;TZID=America/New_York:20250322T130000
DTSTAMP:20260419T145757
CREATED:20250106T212008Z
LAST-MODIFIED:20250219T203653Z
UID:4917-1742641200-1742648400@www.mizzmozaic.com
SUMMARY:Private Mosaic Event
DESCRIPTION:
URL:https://www.mizzmozaic.com/event/private-book-club-event-2/
LOCATION:Mizz Mozaic’s Studio\, Herndon\, VA\, 20170
ATTACH;FMTTYPE=image/png:https://www.mizzmozaic.com/wp-content/uploads/2024/10/Private-Event.png
END:VEVENT
BEGIN:VEVENT
DTSTART;TZID=America/New_York:20250310T180000
DTEND;TZID=America/New_York:20250310T200000
DTSTAMP:20260419T145757
CREATED:20250102T184243Z
LAST-MODIFIED:20250220T200331Z
UID:4886-1741629600-1741636800@www.mizzmozaic.com
SUMMARY:Private Social Club Mosaic Event
DESCRIPTION:
URL:https://www.mizzmozaic.com/event/private-book-club-event/
LOCATION:Reston\, VA
ATTACH;FMTTYPE=image/png:https://www.mizzmozaic.com/wp-content/uploads/2024/10/Private-Event.png
END:VEVENT
BEGIN:VEVENT
DTSTART;VALUE=DATE:20250309
DTEND;VALUE=DATE:20250310
DTSTAMP:20260419T145757
CREATED:20250219T202501Z
LAST-MODIFIED:20250219T203314Z
UID:5019-1741478400-1741564799@www.mizzmozaic.com
SUMMARY:SHE: DC 2025
DESCRIPTION:SHE:DC 2025 \nSHE:DC is an initiative to illuminate\, gather and celebrate women and non-binary entrepreneurs\, powered by Shop Made Brands. \n\n\n\n\nIn March\, correlating with Women’s History Month\, we will host a variety of events\, including a curated art show featuring 500 pieces of art from DMV women and non-binary artists\, panel discussions\, popups with emerging businesses\, and a final pitch competition for the SHE:DC Microgrant.   \nCheck out Mizz Mozaic’s Make Your Own Mosaic Kits on Saturday\, March 9th all day at the SHE-DC 2025 Pop-Up Shop in Georgetown!
URL:https://www.mizzmozaic.com/event/she-dc-2025/
LOCATION:Shop Made in DC\, 1304 Wisconsin Avenue\, NW\, Washington\, DC\, 20007
ATTACH;FMTTYPE=image/jpeg:https://www.mizzmozaic.com/wp-content/uploads/2025/02/She-DC-Graphic.jpg
END:VEVENT
BEGIN:VEVENT
DTSTART;TZID=America/New_York:20250306T170000
DTEND;TZID=America/New_York:20250306T200000
DTSTAMP:20260419T145757
CREATED:20250114T184120Z
LAST-MODIFIED:20250219T204229Z
UID:4950-1741280400-1741291200@www.mizzmozaic.com
SUMMARY:Private Event: MyIntent - "What's Your Word?" Workshop
DESCRIPTION:MyIntent Project is a catalyst for meaningful conversations and positive action. It’s an awesome event where we have meaningful conversations\, on stuff that matters to us\, in a community\, where we support each other in our journeys an encourage people to live with purpose and passion. \nInterested in having Mizz Mozaic host a unique and meaningful MyIntent workshop? Just email her at jenlene@mizzmozaic.com for more details. Each participant getsa hand-stamped bracelet with their word featured on it!
URL:https://www.mizzmozaic.com/event/myintent-whats-your-word-workshop/
LOCATION:VA
ATTACH;FMTTYPE=image/webp:https://www.mizzmozaic.com/wp-content/uploads/2025/01/4-Cover_b02057ce-2f9c-4402-9b2f-317a5c07e67d_445x@2x.progressive.webp
END:VEVENT
BEGIN:VEVENT
DTSTART;TZID=America/New_York:20250303T180000
DTEND;TZID=America/New_York:20250303T203000
DTSTAMP:20260419T145757
CREATED:20250128T202625Z
LAST-MODIFIED:20250219T203516Z
UID:4999-1741024800-1741033800@www.mizzmozaic.com
SUMMARY:Mosaic Mirror Workshop
DESCRIPTION:Make a Mosaic Mirror: A Creative Beginner’s Workshop \nReady to add some color and personality to your space? Join us for a fun\, hands-on Make a Mosaic Mirror workshop! Over three creative sessions\, you’ll learn the art of mosaic tiling\, explore the joy of color and texture\, and craft your very own stunning mirror to take home. \nClass dates: Mondays March 3\, March 10  and March 17. \nWhat You’ll Learn: \n\nHow to choose and arrange tiles for a dynamic\, beautiful design.\nThe basics of cutting tiles using nippers to fit your unique vision (don’t worry\, we’ll show you how!).\nHow to apply adhesive and grout to ensure your mosaic stays secure and looks fantastic.\nThe techniques of applying and cleaning your grout to give your mirror a polished\, finished look.\n\nTools & Materials Included: \n\nColorful tiles in various shapes and sizes.\nNippers for cutting tiles (with guidance on safe and effective use).\nAdhesive for securing your design.\nGrout to finish your masterpiece.\n\nClass Format: This workshop runs over three sessions\, with each one building on the last: \n\nSession 1: Design and layout your mosaic pattern on the mirror\, starting with the basics of tile cutting and placement. Start the gluing process.\nSession 2:  Continue designing and gluing your piece.\nSession 3:  Learn the grouting process\, clean your mirror and add final touches to bring your vision to life!*\n\n*We know creativity sometimes needs a little extra time! You’re welcome to drop by during our open studio hours for additional space to work on your project. Be sure to confirm day and time with Mizz Mozaic. \nWhy Join? \nThis workshop isn’t just about making a mirror—it’s about diving into a creative experience where you can express your personal style and create a functional work of art. Whether you’re a first-timer or just looking to explore a new craft\, we’ll guide you through each step and make sure you have a blast along the way! \nCome for the craft\, stay for the creativity. Let’s create and bring some amazing color into the world!
URL:https://www.mizzmozaic.com/event/mosaic-mirror-workshop/
LOCATION:Mizz Mozaic’s Studio\, Herndon\, VA\, 20170
ATTACH;FMTTYPE=image/jpeg:https://www.mizzmozaic.com/wp-content/uploads/2025/01/IMG_0838-1.jpg
END:VEVENT
BEGIN:VEVENT
DTSTART;TZID=America/New_York:20241221T150000
DTEND;TZID=America/New_York:20241221T180000
DTSTAMP:20260419T145757
CREATED:20241217T173645Z
LAST-MODIFIED:20241217T173754Z
UID:4876-1734793200-1734804000@www.mizzmozaic.com
SUMMARY:German Christmas Market at Bluemont Vineyard
DESCRIPTION:
URL:https://www.mizzmozaic.com/event/german-christmas-market-at-bluemont-vineyard/
LOCATION:VA
ATTACH;FMTTYPE=image/png:https://www.mizzmozaic.com/wp-content/uploads/2024/12/LightingoftheVines.png
END:VEVENT
BEGIN:VEVENT
DTSTART;TZID=America/New_York:20241214T120000
DTEND;TZID=America/New_York:20241214T190000
DTSTAMP:20260419T145757
CREATED:20240916T191804Z
LAST-MODIFIED:20241120T212535Z
UID:4494-1734177600-1734202800@www.mizzmozaic.com
SUMMARY:Herndon Wintermarkt
DESCRIPTION:
URL:https://www.mizzmozaic.com/event/herndon-wintermarkt/
LOCATION:VA
ATTACH;FMTTYPE=image/jpeg:https://www.mizzmozaic.com/wp-content/uploads/2024/09/IMG_1906.jpg
END:VEVENT
BEGIN:VEVENT
DTSTART;VALUE=DATE:20241211
DTEND;VALUE=DATE:20241212
DTSTAMP:20260419T145757
CREATED:20241120T213102Z
LAST-MODIFIED:20241122T152243Z
UID:4722-1733875200-1733961599@www.mizzmozaic.com
SUMMARY:Capital One - Corporate Team Building Event
DESCRIPTION:Interested in a one-of-a-kind corporate team building experience? Contact Mizz Mozaic for more details at jenlene@mizzmozaic.com!
URL:https://www.mizzmozaic.com/event/capital-one-corporate-team-building-event/
LOCATION:VA
ATTACH;FMTTYPE=image/jpeg:https://www.mizzmozaic.com/wp-content/uploads/2024/11/th-1.jpg
END:VEVENT
BEGIN:VEVENT
DTSTART;TZID=America/New_York:20241205T180000
DTEND;TZID=America/New_York:20241205T203000
DTSTAMP:20260419T145757
CREATED:20240924T153744Z
LAST-MODIFIED:20241204T144010Z
UID:4656-1733421600-1733430600@www.mizzmozaic.com
SUMMARY:Shirlington Light up the Village
DESCRIPTION:
URL:https://www.mizzmozaic.com/event/shirlington-light-up-the-village/
LOCATION:VA
ATTACH;FMTTYPE=image/jpeg:https://www.mizzmozaic.com/wp-content/uploads/2024/09/IMG_2550.jpg
END:VEVENT
BEGIN:VEVENT
DTSTART;TZID=America/New_York:20241201T110000
DTEND;TZID=America/New_York:20241201T170000
DTSTAMP:20260419T145757
CREATED:20241120T211856Z
LAST-MODIFIED:20241120T212648Z
UID:4695-1733050800-1733072400@www.mizzmozaic.com
SUMMARY:Vanish Sip & Shop Holiday Art Market
DESCRIPTION:
URL:https://www.mizzmozaic.com/event/vanish-sip-shop-holiday-art-market/
LOCATION:VA
ATTACH;FMTTYPE=image/jpeg:https://www.mizzmozaic.com/wp-content/uploads/2024/11/Screensho.jpg
END:VEVENT
BEGIN:VEVENT
DTSTART;TZID=America/New_York:20241119T183000
DTEND;TZID=America/New_York:20241119T213000
DTSTAMP:20260419T145757
CREATED:20241022T211114Z
LAST-MODIFIED:20241022T211214Z
UID:4692-1732041000-1732051800@www.mizzmozaic.com
SUMMARY:Private Event
DESCRIPTION:
URL:https://www.mizzmozaic.com/event/private-event/
LOCATION:VA
ATTACH;FMTTYPE=image/png:https://www.mizzmozaic.com/wp-content/uploads/2024/10/Private-Event.png
END:VEVENT
BEGIN:VEVENT
DTSTART;TZID=America/New_York:20241019T110000
DTEND;TZID=America/New_York:20241019T160000
DTSTAMP:20260419T145757
CREATED:20240821T161033Z
LAST-MODIFIED:20240916T192420Z
UID:4306-1729335600-1729353600@www.mizzmozaic.com
SUMMARY:Herndon Children's Book Festival
DESCRIPTION:
URL:https://www.mizzmozaic.com/event/herndon-childrens-book-festival-herdon-va/
LOCATION:VA
ATTACH;FMTTYPE=image/png:https://www.mizzmozaic.com/wp-content/uploads/2024/09/Herndon-Book-Festival-1920-x-1080-px.png
END:VEVENT
BEGIN:VEVENT
DTSTART;TZID=America/New_York:20240921T120000
DTEND;TZID=America/New_York:20240921T180000
DTSTAMP:20260419T145757
CREATED:20240821T161255Z
LAST-MODIFIED:20240916T182326Z
UID:4308-1726920000-1726941600@www.mizzmozaic.com
SUMMARY:Perch Fest at Capital One Center
DESCRIPTION:
URL:https://www.mizzmozaic.com/event/perch-fest-at-capitol-one-center/
LOCATION:VA
ATTACH;FMTTYPE=image/jpeg:https://www.mizzmozaic.com/wp-content/uploads/2024/09/PerchFest.jpg
END:VEVENT
END:VCALENDAR