BEGIN:VCALENDAR
VERSION:2.0
PRODID:-//Mizz Mozaic - ECPv6.15.11//NONSGML v1.0//EN
CALSCALE:GREGORIAN
METHOD:PUBLISH
X-WR-CALNAME:Mizz Mozaic
X-ORIGINAL-URL:https://www.mizzmozaic.com
X-WR-CALDESC:Events for Mizz Mozaic
REFRESH-INTERVAL;VALUE=DURATION:PT1H
X-Robots-Tag:noindex
X-PUBLISHED-TTL:PT1H
BEGIN:VTIMEZONE
TZID:America/New_York
BEGIN:DAYLIGHT
TZOFFSETFROM:-0500
TZOFFSETTO:-0400
TZNAME:EDT
DTSTART:20230312T070000
END:DAYLIGHT
BEGIN:STANDARD
TZOFFSETFROM:-0400
TZOFFSETTO:-0500
TZNAME:EST
DTSTART:20231105T060000
END:STANDARD
BEGIN:DAYLIGHT
TZOFFSETFROM:-0500
TZOFFSETTO:-0400
TZNAME:EDT
DTSTART:20240310T070000
END:DAYLIGHT
BEGIN:STANDARD
TZOFFSETFROM:-0400
TZOFFSETTO:-0500
TZNAME:EST
DTSTART:20241103T060000
END:STANDARD
BEGIN:DAYLIGHT
TZOFFSETFROM:-0500
TZOFFSETTO:-0400
TZNAME:EDT
DTSTART:20250309T070000
END:DAYLIGHT
BEGIN:STANDARD
TZOFFSETFROM:-0400
TZOFFSETTO:-0500
TZNAME:EST
DTSTART:20251102T060000
END:STANDARD
END:VTIMEZONE
BEGIN:VEVENT
DTSTART;VALUE=DATE:20241211
DTEND;VALUE=DATE:20241212
DTSTAMP:20260419T215555
CREATED:20241120T213102Z
LAST-MODIFIED:20241122T152243Z
UID:4722-1733875200-1733961599@www.mizzmozaic.com
SUMMARY:Capital One - Corporate Team Building Event
DESCRIPTION:Interested in a one-of-a-kind corporate team building experience? Contact Mizz Mozaic for more details at jenlene@mizzmozaic.com!
URL:https://www.mizzmozaic.com/event/capital-one-corporate-team-building-event/
LOCATION:VA
ATTACH;FMTTYPE=image/jpeg:https://www.mizzmozaic.com/wp-content/uploads/2024/11/th-1.jpg
END:VEVENT
BEGIN:VEVENT
DTSTART;TZID=America/New_York:20241205T180000
DTEND;TZID=America/New_York:20241205T203000
DTSTAMP:20260419T215555
CREATED:20240924T153744Z
LAST-MODIFIED:20241204T144010Z
UID:4656-1733421600-1733430600@www.mizzmozaic.com
SUMMARY:Shirlington Light up the Village
DESCRIPTION:
URL:https://www.mizzmozaic.com/event/shirlington-light-up-the-village/
LOCATION:VA
ATTACH;FMTTYPE=image/jpeg:https://www.mizzmozaic.com/wp-content/uploads/2024/09/IMG_2550.jpg
END:VEVENT
BEGIN:VEVENT
DTSTART;TZID=America/New_York:20241201T110000
DTEND;TZID=America/New_York:20241201T170000
DTSTAMP:20260419T215555
CREATED:20241120T211856Z
LAST-MODIFIED:20241120T212648Z
UID:4695-1733050800-1733072400@www.mizzmozaic.com
SUMMARY:Vanish Sip & Shop Holiday Art Market
DESCRIPTION:
URL:https://www.mizzmozaic.com/event/vanish-sip-shop-holiday-art-market/
LOCATION:VA
ATTACH;FMTTYPE=image/jpeg:https://www.mizzmozaic.com/wp-content/uploads/2024/11/Screensho.jpg
END:VEVENT
BEGIN:VEVENT
DTSTART;TZID=America/New_York:20241119T183000
DTEND;TZID=America/New_York:20241119T213000
DTSTAMP:20260419T215555
CREATED:20241022T211114Z
LAST-MODIFIED:20241022T211214Z
UID:4692-1732041000-1732051800@www.mizzmozaic.com
SUMMARY:Private Event
DESCRIPTION:
URL:https://www.mizzmozaic.com/event/private-event/
LOCATION:VA
ATTACH;FMTTYPE=image/png:https://www.mizzmozaic.com/wp-content/uploads/2024/10/Private-Event.png
END:VEVENT
BEGIN:VEVENT
DTSTART;TZID=America/New_York:20241019T110000
DTEND;TZID=America/New_York:20241019T160000
DTSTAMP:20260419T215555
CREATED:20240821T161033Z
LAST-MODIFIED:20240916T192420Z
UID:4306-1729335600-1729353600@www.mizzmozaic.com
SUMMARY:Herndon Children's Book Festival
DESCRIPTION:
URL:https://www.mizzmozaic.com/event/herndon-childrens-book-festival-herdon-va/
LOCATION:VA
ATTACH;FMTTYPE=image/png:https://www.mizzmozaic.com/wp-content/uploads/2024/09/Herndon-Book-Festival-1920-x-1080-px.png
END:VEVENT
BEGIN:VEVENT
DTSTART;TZID=America/New_York:20240921T120000
DTEND;TZID=America/New_York:20240921T180000
DTSTAMP:20260419T215555
CREATED:20240821T161255Z
LAST-MODIFIED:20240916T182326Z
UID:4308-1726920000-1726941600@www.mizzmozaic.com
SUMMARY:Perch Fest at Capital One Center
DESCRIPTION:
URL:https://www.mizzmozaic.com/event/perch-fest-at-capitol-one-center/
LOCATION:VA
ATTACH;FMTTYPE=image/jpeg:https://www.mizzmozaic.com/wp-content/uploads/2024/09/PerchFest.jpg
END:VEVENT
END:VCALENDAR